BEGIN:VCALENDAR
VERSION:2.0
PRODID:-//https://biomatlante.com///NONSGML kigkonsult.se iCalcreator 2.10.15//
METHOD:PUBLISH
BEGIN:VEVENT
UID:20260421T085942UTC-5086b3FCL6@https://biomatlante.com/
DTSTAMP:20260421T085942Z
DESCRIPTION:Advanced Medical Solutions Group will exhibit at AAOS 2023. \nP
 ass by our Booth 2260 to discover more about MBCP® Technology and AMS surg
 ical portfolio.\n \n \n  https://biomatlante.com/fr/actualites-et-evenemen
 ts/evenements/event/18-aaos-2023-booth-2260
DTSTART:20230307T230056Z
DTEND:20230310T225956Z
LOCATION:Venetian Convention and Expo Center\, 201 Sands Ave\, Las Vegas\, 
 NV 89169\, USA ()
SUMMARY:AAOS 2023 - Booth 2260
URL:https://biomatlante.com/fr/actualites-et-evenements/evenements/event/18
 -aaos-2023-booth-2260
END:VEVENT
END:VCALENDAR
