BEGIN:VCALENDAR
VERSION:2.0
PRODID:-//https://biomatlante.com///NONSGML kigkonsult.se iCalcreator 2.10.15//
METHOD:PUBLISH
BEGIN:VEVENT
UID:20260421T102849UTC-7971WMvI12@https://biomatlante.com/
DTSTAMP:20260421T102849Z
DESCRIPTION:Advanced Medical Solutions Group will exhibit at IDS 2023. \nVi
 sit us at Booth A-051 - Hall 03.2 to learn more about MBCP® Technology and
  AMS large surgical portfolio.\n \n \n  https://biomatlante.com/fr/actuali
 tes-et-evenements/evenements/event/19-ids-2023-booth-a-051-hall-03-2
DTSTART:20230313T230056Z
DTEND:20230318T225956Z
LOCATION:Messeplatz 1 Mülheim\, 50679 Cologne\, Germany ()
SUMMARY:IDS 2023 - Booth A-051 - Hall 03.2
URL:https://biomatlante.com/fr/actualites-et-evenements/evenements/event/19
 -ids-2023-booth-a-051-hall-03-2
END:VEVENT
END:VCALENDAR
