BEGIN:VCALENDAR
VERSION:2.0
PRODID:-//https://biomatlante.com///NONSGML kigkonsult.se iCalcreator 2.10.15//
METHOD:PUBLISH
BEGIN:VEVENT
UID:20260421T102814UTC-2110hTdF82@https://biomatlante.com/
DTSTAMP:20260421T102814Z
DESCRIPTION:Biomatlante - Advanced Medical Solutions is exhibiting at Stand
  F24 - Hall 5 Level 1\nCome visit us!\n \n \n \n \n \n \n  https://biomatl
 ante.com/fr/actualites-et-evenements/evenements/event/20-eurospine-2023
DTSTART:20231003T220000Z
DTEND:20231006T212600Z
LOCATION:Festhalle\, Messe Frankfurt Venue GmbH\, Ludwig-Erhard-Anlage 1\, 
 60327 Frankfurt am Main\, Allemagne ()
SUMMARY:EUROSPINE 2023
URL:https://biomatlante.com/fr/actualites-et-evenements/evenements/event/20
 -eurospine-2023
END:VEVENT
END:VCALENDAR
