BEGIN:VCALENDAR
VERSION:2.0
PRODID:-//https://biomatlante.com///NONSGML kigkonsult.se iCalcreator 2.10.15//
METHOD:PUBLISH
BEGIN:VEVENT
UID:20260421T090127UTC-1841eMksVw@https://biomatlante.com/
DTSTAMP:20260421T090127Z
DESCRIPTION:Advanced Medical Solutions Group will exhibit at Arab Health 20
 24.\nVisit Stand H2.F53 to learn more about MBCP® Technology and AMS large
  surgical portfolio.\n \n  https://biomatlante.com/fr/actualites-et-evenem
 ents/evenements/event/22-arab-health-2024
DTSTART:20240128T230000Z
DTEND:20240201T225950Z
LOCATION:Dubai World Trade Centre (DWTC)\, Dubai\, United Arab Emirates (Du
 bai World Trade Centre (DWTC)\, Dubai\, United Arab Emirates)
SUMMARY:ARAB HEALTH 2024
URL:https://biomatlante.com/fr/actualites-et-evenements/evenements/event/22
 -arab-health-2024
END:VEVENT
END:VCALENDAR
