BEGIN:VCALENDAR
VERSION:2.0
PRODID:-//https://biomatlante.com///NONSGML kigkonsult.se iCalcreator 2.10.15//
METHOD:PUBLISH
BEGIN:VEVENT
UID:20260421T090040UTC-3532Im1xho@https://biomatlante.com/
DTSTAMP:20260421T090040Z
DESCRIPTION:Advanced Medical Solutions Group will exhibit at Arab Health 20
 25.\nVisit Stand H3.A37 to learn more about MBCP® Technology and AMS large
  surgical portfolio.\n&nbsp\;\nLocation on map\n\n&nbsp\; https://biomatla
 nte.com/fr/actualites-et-evenements/evenements/event/29-arab-health-2025
DTSTART:20250126T230000Z
DTEND:20250130T225950Z
LOCATION:Dubai World Trade Centre (DWTC)\, Dubai\, United Arab Emirates (Du
 bai World Trade Centre (DWTC)\, Dubai\, United Arab Emirates)
SUMMARY:ARAB HEALTH 2025
URL:https://biomatlante.com/fr/actualites-et-evenements/evenements/event/29
 -arab-health-2025
END:VEVENT
END:VCALENDAR
