BEGIN:VCALENDAR
VERSION:2.0
PRODID:-//https://biomatlante.com///NONSGML kigkonsult.se iCalcreator 2.10.15//
METHOD:PUBLISH
BEGIN:VEVENT
UID:20260421T084717UTC-2659iB0Es3@https://biomatlante.com/
DTSTAMP:20260421T084717Z
DESCRIPTION:Advanced Medical Solutions is exhibiting at&nbsp\;Eurospine.\nC
 ome visit us at our booth no. DS14&nbsp\;and discover more about our solut
 ions for bone regeneration and tissue healing!\n&nbsp\;\n&nbsp\;\n&nbsp\;
 \n&nbsp\;\n&nbsp\;\n&nbsp\; https://biomatlante.com/fr/actualites-et-evene
 ments/evenements/event/30-eurospine-2025
DTSTART:20251021T220000Z
DTEND:20251024T212600Z
LOCATION:Copenhagen\, Denmark - Bella Centre (Bella Centre boulevard Copenh
 agen)
SUMMARY:EUROSPINE 2025
URL:https://biomatlante.com/fr/actualites-et-evenements/evenements/event/30
 -eurospine-2025
END:VEVENT
END:VCALENDAR
