BEGIN:VCALENDAR
VERSION:2.0
PRODID:-//https://biomatlante.com///NONSGML kigkonsult.se iCalcreator 2.10.15//
METHOD:PUBLISH
BEGIN:VEVENT
UID:20260421T085809UTC-0346KpIox8@https://biomatlante.com/
DTSTAMP:20260421T085809Z
DESCRIPTION:Advanced Medical Solutions is exhibiting at&nbsp\;EBJIS.\nCome 
 visit us at our booth and discover more about our solutions for tissue hea
 ling!\n&nbsp\;\n&nbsp\;\n&nbsp\;\n&nbsp\; https://biomatlante.com/fr/actua
 lites-et-evenements/evenements/event/31-ebjis-2025
DTSTART:20250910T220000Z
DTEND:20250913T212600Z
LOCATION:Bologna\, Italy - Bologna Congress Centre ()
SUMMARY:EBJIS 2025
URL:https://biomatlante.com/fr/actualites-et-evenements/evenements/event/31
 -ebjis-2025
END:VEVENT
END:VCALENDAR
