BEGIN:VCALENDAR
VERSION:2.0
PRODID:-//https://biomatlante.com///NONSGML kigkonsult.se iCalcreator 2.10.15//
METHOD:PUBLISH
BEGIN:VEVENT
UID:20260421T085608UTC-2412P58jmv@https://biomatlante.com/
DTSTAMP:20260421T085608Z
DESCRIPTION:&nbsp\;\nAdvanced Medical Solutions Group will exhibit at DKOU 
 2025.\nVisit our Stand no. B17 to learn more about MBCP® Technology \nand 
 AMS large surgical portfolio.\n&nbsp\;\n&nbsp\; https://biomatlante.com/fr
 /actualites-et-evenements/evenements/event/32-dkou-2025
DTSTART:20251027T230056Z
DTEND:20251031T225956Z
LOCATION:Messe Berlin Berlin ExpoCenter City (South entrance) Jafféstraße 1
 4055 Berlin\, Germany ()
SUMMARY:DKOU 2025
URL:https://biomatlante.com/fr/actualites-et-evenements/evenements/event/32
 -dkou-2025
END:VEVENT
END:VCALENDAR
