BEGIN:VCALENDAR
VERSION:2.0
PRODID:-//https://biomatlante.com///NONSGML kigkonsult.se iCalcreator 2.10.15//
METHOD:PUBLISH
BEGIN:VEVENT
UID:20260421T084854UTC-7773PIXk3E@https://biomatlante.com/
DTSTAMP:20260421T084854Z
DESCRIPTION:Advanced Medical Solutions Group will exhibit at Arab Health 20
 25.\nVisit Stand H3.A37 to learn more about MBCP® Technology and AMS large
  surgical portfolio.\n&nbsp\;\nLocation on map\n\n&nbsp\; https://biomatla
 nte.com/fr/actualites-et-evenements/evenements/event/33-arab-health-2025
DTSTART:20260208T230000Z
DTEND:20260212T225950Z
LOCATION:Dubai Exhibition Centre ()
SUMMARY:ARAB HEALTH 2025
URL:https://biomatlante.com/fr/actualites-et-evenements/evenements/event/33
 -arab-health-2025
END:VEVENT
END:VCALENDAR
