BEGIN:VCALENDAR
VERSION:2.0
PRODID:-//https://biomatlante.com///NONSGML kigkonsult.se iCalcreator 2.10.15//
METHOD:PUBLISH
BEGIN:VEVENT
UID:20260419T153614UTC-0945t1NBux@https://biomatlante.com/
DTSTAMP:20260419T153614Z
DESCRIPTION:Advanced Medical Solutions Group will exhibit at Arab Health 20
 25.\nVisit Stand H3.A37 to learn more about MBCP® Technology and AMS large
  surgical portfolio.\n&nbsp\;\nLocation on map\n\n&nbsp\; https://biomatla
 nte.com/fr/actualites-et-evenements/evenements/event/34-arab-health-2025
DTSTART:20251203T230000Z
DTEND:20251205T225950Z
LOCATION:Hotel Vienna House by Wyndham Andel's Berlin ()
SUMMARY:ARAB HEALTH 2025
URL:https://biomatlante.com/fr/actualites-et-evenements/evenements/event/34
 -arab-health-2025
END:VEVENT
END:VCALENDAR
